BEGIN:VCALENDAR
VERSION:2.0
PRODID:-//La Cigale de Royan - ECPv6.15.20//NONSGML v1.0//EN
CALSCALE:GREGORIAN
METHOD:PUBLISH
X-WR-CALNAME:La Cigale de Royan
X-ORIGINAL-URL:https://www.lacigalederoyan.com
X-WR-CALDESC:Évènements pour La Cigale de Royan
REFRESH-INTERVAL;VALUE=DURATION:PT1H
X-Robots-Tag:noindex
X-PUBLISHED-TTL:PT1H
BEGIN:VTIMEZONE
TZID:Europe/Paris
BEGIN:DAYLIGHT
TZOFFSETFROM:+0100
TZOFFSETTO:+0200
TZNAME:CEST
DTSTART:20240331T010000
END:DAYLIGHT
BEGIN:STANDARD
TZOFFSETFROM:+0200
TZOFFSETTO:+0100
TZNAME:CET
DTSTART:20241027T010000
END:STANDARD
BEGIN:DAYLIGHT
TZOFFSETFROM:+0100
TZOFFSETTO:+0200
TZNAME:CEST
DTSTART:20250330T010000
END:DAYLIGHT
BEGIN:STANDARD
TZOFFSETFROM:+0200
TZOFFSETTO:+0100
TZNAME:CET
DTSTART:20251026T010000
END:STANDARD
BEGIN:DAYLIGHT
TZOFFSETFROM:+0100
TZOFFSETTO:+0200
TZNAME:CEST
DTSTART:20260329T010000
END:DAYLIGHT
BEGIN:STANDARD
TZOFFSETFROM:+0200
TZOFFSETTO:+0100
TZNAME:CET
DTSTART:20261025T010000
END:STANDARD
END:VTIMEZONE
BEGIN:VEVENT
DTSTART;TZID=Europe/Paris:20251003T193000
DTEND;TZID=Europe/Paris:20251004T003000
DTSTAMP:20260426T042147
CREATED:20250901T132653Z
LAST-MODIFIED:20250901T134918Z
UID:26627-1759519800-1759537800@www.lacigalederoyan.com
SUMMARY:DJ Georgio Danse Party
DESCRIPTION:🎫 Billetterie : billetweb.fr/dj-georgio
URL:https://www.lacigalederoyan.com/event/dj-georgio-danse-party/
LOCATION:La cigale de Royan\, 79 avenue de la grande conche\, Royan\, 17200\, France
CATEGORIES:Soirée
ATTACH;FMTTYPE=image/png:https://www.lacigalederoyan.com/wp-content/uploads/2025/09/MIGNATURE-SITE-WEB.png
ORGANIZER;CN="La Cigale de Royan":MAILTO:contact@lacigalederoyan.com
END:VEVENT
BEGIN:VEVENT
DTSTART;TZID=Europe/Paris:20251004T203000
DTEND;TZID=Europe/Paris:20251005T003000
DTSTAMP:20260426T042147
CREATED:20250901T133648Z
LAST-MODIFIED:20250901T134823Z
UID:26630-1759609800-1759624200@www.lacigalederoyan.com
SUMMARY:LES STONERS tribute Rolling Stones
DESCRIPTION:La Cigale de Royan  vous invite au concert des THE STONERS\, groupe qui retrace la carrière des « Stones » des plus anciens titres aux chansons les plus récentes. Soirée Rock’N’Roll garantie !   \n  \n🎫 Billetterie : billetweb.fr/les-stoners
URL:https://www.lacigalederoyan.com/event/les-stoners-tribute-rolling-stones/
LOCATION:La cigale de Royan\, 79 avenue de la grande conche\, Royan\, 17200\, France
CATEGORIES:Concerts
ATTACH;FMTTYPE=image/png:https://www.lacigalederoyan.com/wp-content/uploads/2025/09/MIGNATURE-SITE-WEB-2.png
ORGANIZER;CN="La Cigale de Royan":MAILTO:contact@lacigalederoyan.com
END:VEVENT
END:VCALENDAR