BEGIN:VCALENDAR
VERSION:2.0
PRODID:-//La Cigale de Royan - ECPv6.15.20//NONSGML v1.0//EN
CALSCALE:GREGORIAN
METHOD:PUBLISH
X-WR-CALNAME:La Cigale de Royan
X-ORIGINAL-URL:https://www.lacigalederoyan.com
X-WR-CALDESC:Évènements pour La Cigale de Royan
REFRESH-INTERVAL;VALUE=DURATION:PT1H
X-Robots-Tag:noindex
X-PUBLISHED-TTL:PT1H
BEGIN:VTIMEZONE
TZID:Europe/Paris
BEGIN:DAYLIGHT
TZOFFSETFROM:+0100
TZOFFSETTO:+0200
TZNAME:CEST
DTSTART:20240331T010000
END:DAYLIGHT
BEGIN:STANDARD
TZOFFSETFROM:+0200
TZOFFSETTO:+0100
TZNAME:CET
DTSTART:20241027T010000
END:STANDARD
BEGIN:DAYLIGHT
TZOFFSETFROM:+0100
TZOFFSETTO:+0200
TZNAME:CEST
DTSTART:20250330T010000
END:DAYLIGHT
BEGIN:STANDARD
TZOFFSETFROM:+0200
TZOFFSETTO:+0100
TZNAME:CET
DTSTART:20251026T010000
END:STANDARD
BEGIN:DAYLIGHT
TZOFFSETFROM:+0100
TZOFFSETTO:+0200
TZNAME:CEST
DTSTART:20260329T010000
END:DAYLIGHT
BEGIN:STANDARD
TZOFFSETFROM:+0200
TZOFFSETTO:+0100
TZNAME:CET
DTSTART:20261025T010000
END:STANDARD
END:VTIMEZONE
BEGIN:VEVENT
DTSTART;TZID=Europe/Paris:20251010T203000
DTEND;TZID=Europe/Paris:20251010T233000
DTSTAMP:20260426T042153
CREATED:20250916T111800Z
LAST-MODIFIED:20250916T111812Z
UID:26742-1760128200-1760139000@www.lacigalederoyan.com
SUMMARY:Amants à mi -temps - comédie de boulevard
DESCRIPTION:Calembours\, quiproquos et claquements de portes sont au rendez-vous de ce vaudeville polisson.\nAttention ! Car c’est la femme qui mène la danse.\nVincent\, marié\, deux enfants\, primeur à Rungis est un mâle sanguin\, bourru. Il désire un peu moins sa femme et retrouve sa vigueur virile depuis trois ans\, dans les bras de sa maîtresse\, du lundi 15h00 au mercredi 15h00. \nChristian\, deux enfants\, enseignantà la Sorbonne\, quant à lui\, est doux\, calme\, posé. Il est un peu surmené par sa femme hyper active et trouve refuge auprès de sa maîtresse\, depuis 3 ans déjà\, de mercredi 16 h à vendredi 15h. Patricia\, enfin\, jongle toute la semaine avec un emploi du temps bien chargé : femme fatale du lundi au mercredi\, puis compagne maternante du mercredi au vendredi\, et ce\, depuis trois ans ! Un mercredi\, la passation se passe mal : les deux amants se croisent. \n🎫 Billetterie : billetweb.fr/amants-a-mi-temps-comedie-de-boulevard
URL:https://www.lacigalederoyan.com/event/amants-a-mi-temps-comedie-de-boulevard/
LOCATION:La cigale de Royan\, 79 avenue de la grande conche\, Royan\, 17200\, France
ATTACH;FMTTYPE=image/png:https://www.lacigalederoyan.com/wp-content/uploads/2025/09/MIGNATURE-SITE-WEB-13.png
ORGANIZER;CN="La Cigale de Royan":MAILTO:contact@lacigalederoyan.com
END:VEVENT
END:VCALENDAR