BEGIN:VCALENDAR
VERSION:2.0
PRODID:-//La Cigale de Royan - ECPv6.15.20//NONSGML v1.0//EN
CALSCALE:GREGORIAN
METHOD:PUBLISH
X-ORIGINAL-URL:https://www.lacigalederoyan.com
X-WR-CALDESC:Évènements pour La Cigale de Royan
REFRESH-INTERVAL;VALUE=DURATION:PT1H
X-Robots-Tag:noindex
X-PUBLISHED-TTL:PT1H
BEGIN:VTIMEZONE
TZID:Europe/Paris
BEGIN:DAYLIGHT
TZOFFSETFROM:+0100
TZOFFSETTO:+0200
TZNAME:CEST
DTSTART:20240331T010000
END:DAYLIGHT
BEGIN:STANDARD
TZOFFSETFROM:+0200
TZOFFSETTO:+0100
TZNAME:CET
DTSTART:20241027T010000
END:STANDARD
BEGIN:DAYLIGHT
TZOFFSETFROM:+0100
TZOFFSETTO:+0200
TZNAME:CEST
DTSTART:20250330T010000
END:DAYLIGHT
BEGIN:STANDARD
TZOFFSETFROM:+0200
TZOFFSETTO:+0100
TZNAME:CET
DTSTART:20251026T010000
END:STANDARD
BEGIN:DAYLIGHT
TZOFFSETFROM:+0100
TZOFFSETTO:+0200
TZNAME:CEST
DTSTART:20260329T010000
END:DAYLIGHT
BEGIN:STANDARD
TZOFFSETFROM:+0200
TZOFFSETTO:+0100
TZNAME:CET
DTSTART:20261025T010000
END:STANDARD
END:VTIMEZONE
BEGIN:VEVENT
DTSTART;TZID=Europe/Paris:20251011T203000
DTEND;TZID=Europe/Paris:20251012T003000
DTSTAMP:20260426T042450
CREATED:20250901T134400Z
LAST-MODIFIED:20250911T133803Z
UID:26633-1760214600-1760229000@www.lacigalederoyan.com
SUMMARY:Mister Tchang tribute to the King
DESCRIPTION:ScreenRecording_09-11-2025 14-34-45_1 \nMISTERTCHANG\, showman bien connu de la scène blues internationale depuis plus de 25 ans\, revient avec une formule étoffée\, basse\, batterie\, orgue et section cuivres : le TRIBUTE 2 THE KINGS BLUES BAND.\nEn s’appuyant sur un répertoire bien choisi des trois kings de la guitare blues\, B.B. \, Albert et Freddie il se prépare à mettre le feu et à prêcher la bonne parole des dieux du blues : « LET THE GOOD TIMES ROLL!!! » \n  \n🎫 Billetterie : billetweb.fr/mister-tchang \n🎥Teaser : https://www.youtube.com/watch?v=fpphWPD3Ie8
URL:https://www.lacigalederoyan.com/event/mister-tchang-tribute-to-the-king/
LOCATION:La cigale de Royan\, 79 avenue de la grande conche\, Royan\, 17200\, France
ATTACH;FMTTYPE=image/png:https://www.lacigalederoyan.com/wp-content/uploads/2025/09/MIGNATURE-SITE-WEB-3.png
ORGANIZER;CN="La Cigale de Royan":MAILTO:contact@lacigalederoyan.com
END:VEVENT
END:VCALENDAR