BEGIN:VCALENDAR
VERSION:2.0
PRODID:-//La Cigale de Royan - ECPv6.15.20//NONSGML v1.0//EN
CALSCALE:GREGORIAN
METHOD:PUBLISH
X-ORIGINAL-URL:https://www.lacigalederoyan.com
X-WR-CALDESC:Évènements pour La Cigale de Royan
REFRESH-INTERVAL;VALUE=DURATION:PT1H
X-Robots-Tag:noindex
X-PUBLISHED-TTL:PT1H
BEGIN:VTIMEZONE
TZID:Europe/Paris
BEGIN:DAYLIGHT
TZOFFSETFROM:+0100
TZOFFSETTO:+0200
TZNAME:CEST
DTSTART:20240331T010000
END:DAYLIGHT
BEGIN:STANDARD
TZOFFSETFROM:+0200
TZOFFSETTO:+0100
TZNAME:CET
DTSTART:20241027T010000
END:STANDARD
BEGIN:DAYLIGHT
TZOFFSETFROM:+0100
TZOFFSETTO:+0200
TZNAME:CEST
DTSTART:20250330T010000
END:DAYLIGHT
BEGIN:STANDARD
TZOFFSETFROM:+0200
TZOFFSETTO:+0100
TZNAME:CET
DTSTART:20251026T010000
END:STANDARD
BEGIN:DAYLIGHT
TZOFFSETFROM:+0100
TZOFFSETTO:+0200
TZNAME:CEST
DTSTART:20260329T010000
END:DAYLIGHT
BEGIN:STANDARD
TZOFFSETFROM:+0200
TZOFFSETTO:+0100
TZNAME:CET
DTSTART:20261025T010000
END:STANDARD
END:VTIMEZONE
BEGIN:VEVENT
DTSTART;TZID=Europe/Paris:20251128T204500
DTEND;TZID=Europe/Paris:20251128T230000
DTSTAMP:20260426T042448
CREATED:20250713T101343Z
LAST-MODIFIED:20250905T192611Z
UID:26548-1764362700-1764370800@www.lacigalederoyan.com
SUMMARY:Carrefour des Talents 17 - OSER REGGIANI
DESCRIPTION:OSER REGGIANI       HOMMAGE \nUne Révélation du festival Off d’Avignon\nOser Reggiani\, c’est un grand plongeon dans l’univers intense de Serge Reggiani\, porté par Jean Louis Cassarino et mis en scène par Xavier Lacouture. À La Cigale de Royan\, laissez-vous emporter par un hommage vibrant\, drôle\, profond\, où chaque mot résonne. Oser Reggiani\, des frissons ! La Cigale de Royan devient le théâtre d’un moment rare : entre poésie\, guitare (merci Thierry Garcia) et émotion\, préparez vos cœurs… et vos mouchoirs ! \nPossibilité de petite restauration de 19h à 20h \n \nBilletterie 26€ / adhérents:21€. \nhttps://www.helloasso.com/associations/aa-carrefour-des-talents-17/evenements/hommage-a-reggiani \n 
URL:https://www.lacigalederoyan.com/event/carrefour-des-talents-17-oser-reggiani/
LOCATION:La cigale de Royan\, 79 avenue de la grande conche\, Royan\, 17200\, France
CATEGORIES:Chanson
ATTACH;FMTTYPE=image/jpeg:https://www.lacigalederoyan.com/wp-content/uploads/2025/07/2-HOMMAGE-a-REGGIANI-VIGNETTE.jpg
ORGANIZER;CN="carrefour des talents 17":MAILTO:alain.abril17@orange.fr
END:VEVENT
END:VCALENDAR