BEGIN:VCALENDAR
VERSION:2.0
PRODID:-//La Cigale de Royan - ECPv6.15.20//NONSGML v1.0//EN
CALSCALE:GREGORIAN
METHOD:PUBLISH
X-WR-CALNAME:La Cigale de Royan
X-ORIGINAL-URL:https://www.lacigalederoyan.com
X-WR-CALDESC:Évènements pour La Cigale de Royan
REFRESH-INTERVAL;VALUE=DURATION:PT1H
X-Robots-Tag:noindex
X-PUBLISHED-TTL:PT1H
BEGIN:VTIMEZONE
TZID:Europe/Paris
BEGIN:DAYLIGHT
TZOFFSETFROM:+0100
TZOFFSETTO:+0200
TZNAME:CEST
DTSTART:20240331T010000
END:DAYLIGHT
BEGIN:STANDARD
TZOFFSETFROM:+0200
TZOFFSETTO:+0100
TZNAME:CET
DTSTART:20241027T010000
END:STANDARD
BEGIN:DAYLIGHT
TZOFFSETFROM:+0100
TZOFFSETTO:+0200
TZNAME:CEST
DTSTART:20250330T010000
END:DAYLIGHT
BEGIN:STANDARD
TZOFFSETFROM:+0200
TZOFFSETTO:+0100
TZNAME:CET
DTSTART:20251026T010000
END:STANDARD
BEGIN:DAYLIGHT
TZOFFSETFROM:+0100
TZOFFSETTO:+0200
TZNAME:CEST
DTSTART:20260329T010000
END:DAYLIGHT
BEGIN:STANDARD
TZOFFSETFROM:+0200
TZOFFSETTO:+0100
TZNAME:CET
DTSTART:20261025T010000
END:STANDARD
END:VTIMEZONE
BEGIN:VEVENT
DTSTART;TZID=Europe/Paris:20251213T203000
DTEND;TZID=Europe/Paris:20251213T233000
DTSTAMP:20260426T011651
CREATED:20251027T210434Z
LAST-MODIFIED:20251027T210434Z
UID:26796-1765657800-1765668600@www.lacigalederoyan.com
SUMMARY:Les belles mères
DESCRIPTION:Faustine Boullac de la Coulandière\, a décidé de marier son fils Louis-Edouard à\nEglantine.\nDjamila Bouhamza\, tout aussi fortunée grâce à une belle réussite dans le commerce\nde proximité\, a également prévu un mariage pour sa fille Fatima\, avec Mohamed.\nMais les jeunes adultes Louis-Edouard et Fatima s’aiment en secret. Ils ont décidé de\ncélébrer leur union\, coûte que coûte. Lorsqu’il s’agira de lancer les préparatifs du\nmariage\, quid de l’office à l’église ou à la mosquée ? Quid du repas au couscous ou\nau foie gras ?\nLes tourtereaux ont donc tout prévu pour que les familles soient obligées de\ns’entendre. Et pour commencer les rapprochements\, ils exigent que leurs mères\nfassent toutes les deux\, un test ADN\, pour définir scientifiquement les origines\nfamiliales. Et quand l’ ADN parle… tout le monde en prend pour son grade.\nLes belles-mères est une comédie sociale satirique sur la différence dans le couple\,\nl’emprise familiale\, les discriminations sociales et raciales\, et sur le pouvoir de\nl’argent. \nUne pièce de Jérôme Paquatte et Jean-Marc Magnoni\nMise en scène de Jérôme Paquatte\nAvec Karine Kadi et Isabelle Péan \n🎫 : billetweb.fr/les-belles-meres8 \nTeaser : https://youtu.be/F2rfB5JEyw4?si=Z18Ug6N-JYVnJiob
URL:https://www.lacigalederoyan.com/event/les-belles-meres/
LOCATION:La cigale de Royan\, 79 avenue de la grande conche\, Royan\, 17200\, France
ATTACH;FMTTYPE=image/jpeg:https://www.lacigalederoyan.com/wp-content/uploads/2025/10/MIGNATURE-SITE-WEB.jpg
ORGANIZER;CN="La Cigale de Royan":MAILTO:contact@lacigalederoyan.com
END:VEVENT
END:VCALENDAR