BEGIN:VCALENDAR
VERSION:2.0
PRODID:-//La Cigale de Royan - ECPv6.15.20//NONSGML v1.0//EN
CALSCALE:GREGORIAN
METHOD:PUBLISH
X-WR-CALNAME:La Cigale de Royan
X-ORIGINAL-URL:https://www.lacigalederoyan.com
X-WR-CALDESC:Évènements pour La Cigale de Royan
REFRESH-INTERVAL;VALUE=DURATION:PT1H
X-Robots-Tag:noindex
X-PUBLISHED-TTL:PT1H
BEGIN:VTIMEZONE
TZID:Europe/Paris
BEGIN:DAYLIGHT
TZOFFSETFROM:+0100
TZOFFSETTO:+0200
TZNAME:CEST
DTSTART:20250330T010000
END:DAYLIGHT
BEGIN:STANDARD
TZOFFSETFROM:+0200
TZOFFSETTO:+0100
TZNAME:CET
DTSTART:20251026T010000
END:STANDARD
BEGIN:DAYLIGHT
TZOFFSETFROM:+0100
TZOFFSETTO:+0200
TZNAME:CEST
DTSTART:20260329T010000
END:DAYLIGHT
BEGIN:STANDARD
TZOFFSETFROM:+0200
TZOFFSETTO:+0100
TZNAME:CET
DTSTART:20261025T010000
END:STANDARD
BEGIN:DAYLIGHT
TZOFFSETFROM:+0100
TZOFFSETTO:+0200
TZNAME:CEST
DTSTART:20270328T010000
END:DAYLIGHT
BEGIN:STANDARD
TZOFFSETFROM:+0200
TZOFFSETTO:+0100
TZNAME:CET
DTSTART:20271031T010000
END:STANDARD
END:VTIMEZONE
BEGIN:VEVENT
DTSTART;TZID=Europe/Paris:20260207T203000
DTEND;TZID=Europe/Paris:20260207T233000
DTSTAMP:20260425T221219
CREATED:20251224T170328Z
LAST-MODIFIED:20251224T170328Z
UID:26900-1770496200-1770507000@www.lacigalederoyan.com
SUMMARY:Amant malgrés lui
DESCRIPTION:Julien et Elodie forment un couple en apparence ordinaire… Mais que se cache t’il derrière les apparences ?\nPour rompre avec la routine\, Elodie décide\, par jeu\, de s’inscrire sur un site de rencontres. \nMais Julien l’apprend. Déstabilisé\, il va lui aussi s’inscrire\, sous un faux profil\, pour découvrir les intentions\nd’Elodie… A-t-il fait le bon choix ?\nEntre rires\, souvenirs\, désillusions et manipulations\, Julien et Elodie vous invitent au\ncoeur de leur histoire où le réel et le virtuel s’entremêlent.\nAuteur JULIEN SIGALAS\nMetteur en scène AUDREY STAHL TRUFFIER\nAvec JENNIFER GAUTHIER et CYRILLE ETOURNEAU \n🎫 Billetterie : billetweb.fr/ament-malgre-lui
URL:https://www.lacigalederoyan.com/event/amant-malgres-lui/
LOCATION:La cigale de Royan\, 79 avenue de la grande conche\, Royan\, 17200\, France
ATTACH;FMTTYPE=image/jpeg:https://www.lacigalederoyan.com/wp-content/uploads/2025/12/MIGNATURE-SITE-WEB-7.jpg
ORGANIZER;CN="La Cigale de Royan":MAILTO:contact@lacigalederoyan.com
END:VEVENT
END:VCALENDAR