BEGIN:VCALENDAR
VERSION:2.0
PRODID:-//La Cigale de Royan - ECPv6.15.20//NONSGML v1.0//EN
CALSCALE:GREGORIAN
METHOD:PUBLISH
X-WR-CALNAME:La Cigale de Royan
X-ORIGINAL-URL:https://www.lacigalederoyan.com
X-WR-CALDESC:Évènements pour La Cigale de Royan
REFRESH-INTERVAL;VALUE=DURATION:PT1H
X-Robots-Tag:noindex
X-PUBLISHED-TTL:PT1H
BEGIN:VTIMEZONE
TZID:Europe/Paris
BEGIN:DAYLIGHT
TZOFFSETFROM:+0100
TZOFFSETTO:+0200
TZNAME:CEST
DTSTART:20250330T010000
END:DAYLIGHT
BEGIN:STANDARD
TZOFFSETFROM:+0200
TZOFFSETTO:+0100
TZNAME:CET
DTSTART:20251026T010000
END:STANDARD
BEGIN:DAYLIGHT
TZOFFSETFROM:+0100
TZOFFSETTO:+0200
TZNAME:CEST
DTSTART:20260329T010000
END:DAYLIGHT
BEGIN:STANDARD
TZOFFSETFROM:+0200
TZOFFSETTO:+0100
TZNAME:CET
DTSTART:20261025T010000
END:STANDARD
BEGIN:DAYLIGHT
TZOFFSETFROM:+0100
TZOFFSETTO:+0200
TZNAME:CEST
DTSTART:20270328T010000
END:DAYLIGHT
BEGIN:STANDARD
TZOFFSETFROM:+0200
TZOFFSETTO:+0100
TZNAME:CET
DTSTART:20271031T010000
END:STANDARD
END:VTIMEZONE
BEGIN:VEVENT
DTSTART;TZID=Europe/Paris:20260326T204500
DTEND;TZID=Europe/Paris:20260326T230000
DTSTAMP:20260425T203912
CREATED:20250713T103728Z
LAST-MODIFIED:20250905T192347Z
UID:26560-1774557900-1774566000@www.lacigalederoyan.com
SUMMARY:Carrefour des Talents 17 - GARANCE & MAUD-
DESCRIPTION:GARANCE & MAUD \nLe concert débat théâtral.       CHANSON  \nJeudi 26 mars 2026\, La Cigale de Royan accueille Garance & Maud\, un spectacle qui fait chanter le féminisme et réfléchir sans froncer les sourcils. Et cerise sur le micro : Garance est née à Royan ! Oui\, notre locale de l’étape devenue artiste féministe de renom (adoubée par Anne Sylvestre\, rien que ça !) revient chez elle avec son spectacle Garance & Maud. Entre chanson et théâtre\, elle y décortique l’amour\, le patriarcat et les idées reçues\, avec humour\, colère et tendresse. Accompagnée de Maud Chappaz pour la partie débat\, Garance partage la scène comme elle partage ses engagements : avec sincérité et une guitare affûtée. À La Cigale de Royan\, Garance & Maud font vibrer les cœurs et les idées le 26 mars 2026. Un retour aux sources explosif\, drôle et essentiel. Ne ratez pas le come-back de Royan’s finest ! \nPossibilité de petite restauration de 19h à 20h \n \nBilletterie 26€ / adhérents:21€. \nhttps://www.helloasso.com/associations/aa-carrefour-des-talents-17/evenements/garance-et-maud-chappaz-1
URL:https://www.lacigalederoyan.com/event/carrefour-des-talents-17-garance-maud/
LOCATION:La cigale de Royan\, 79 avenue de la grande conche\, Royan\, 17200\, France
CATEGORIES:Concerts,Théatre
ATTACH;FMTTYPE=image/jpeg:https://www.lacigalederoyan.com/wp-content/uploads/2025/07/6-GARANCE-MAUD-VIGNETTE.jpg
ORGANIZER;CN="carrefour des talents 17":MAILTO:alain.abril17@orange.fr
END:VEVENT
END:VCALENDAR