BEGIN:VCALENDAR
VERSION:2.0
PRODID:-//La Cigale de Royan - ECPv6.15.20//NONSGML v1.0//EN
CALSCALE:GREGORIAN
METHOD:PUBLISH
X-ORIGINAL-URL:https://www.lacigalederoyan.com
X-WR-CALDESC:Évènements pour La Cigale de Royan
REFRESH-INTERVAL;VALUE=DURATION:PT1H
X-Robots-Tag:noindex
X-PUBLISHED-TTL:PT1H
BEGIN:VTIMEZONE
TZID:Europe/Paris
BEGIN:DAYLIGHT
TZOFFSETFROM:+0100
TZOFFSETTO:+0200
TZNAME:CEST
DTSTART:20250330T010000
END:DAYLIGHT
BEGIN:STANDARD
TZOFFSETFROM:+0200
TZOFFSETTO:+0100
TZNAME:CET
DTSTART:20251026T010000
END:STANDARD
BEGIN:DAYLIGHT
TZOFFSETFROM:+0100
TZOFFSETTO:+0200
TZNAME:CEST
DTSTART:20260329T010000
END:DAYLIGHT
BEGIN:STANDARD
TZOFFSETFROM:+0200
TZOFFSETTO:+0100
TZNAME:CET
DTSTART:20261025T010000
END:STANDARD
BEGIN:DAYLIGHT
TZOFFSETFROM:+0100
TZOFFSETTO:+0200
TZNAME:CEST
DTSTART:20270328T010000
END:DAYLIGHT
BEGIN:STANDARD
TZOFFSETFROM:+0200
TZOFFSETTO:+0100
TZNAME:CET
DTSTART:20271031T010000
END:STANDARD
END:VTIMEZONE
BEGIN:VEVENT
DTSTART;TZID=Europe/Paris:20260411T203000
DTEND;TZID=Europe/Paris:20260411T230000
DTSTAMP:20260425T190001
CREATED:20260320T142408Z
LAST-MODIFIED:20260410T071057Z
UID:27036-1775939400-1775948400@www.lacigalederoyan.com
SUMMARY:Itinéraire Bis - Annulé‼️
DESCRIPTION:Fred est pressé : il doit rejoindre sa famille pour le mariage de sa sœur. Mais lorsqu’il découvre Gaëtan\, son covoitureur pour plus de 700 kilomètres\, il comprend tout de suite que le voyage va être long… Très long…\nCes deux personnages vont se découvrir au fil de la route\, sur un itinéraire bis jonché d’embûches aussi drôles qu ’imprévues.\nL’issue du voyage sera-t-elle celle annoncée ?\nIl y a de quoi en douter…. \n🎫 Billetterie : billetweb.fr/itineraire-bis8 \n  \n…
URL:https://www.lacigalederoyan.com/event/itineraire-bis/
LOCATION:La cigale de Royan\, 79 avenue de la grande conche\, Royan\, 17200\, France
ATTACH;FMTTYPE=image/jpeg:https://www.lacigalederoyan.com/wp-content/uploads/2026/03/MIGNATURE-SITE-WEB-11.jpg
END:VEVENT
END:VCALENDAR