BEGIN:VCALENDAR
VERSION:2.0
PRODID:-//La Cigale de Royan - ECPv6.15.20//NONSGML v1.0//EN
CALSCALE:GREGORIAN
METHOD:PUBLISH
X-WR-CALNAME:La Cigale de Royan
X-ORIGINAL-URL:https://www.lacigalederoyan.com
X-WR-CALDESC:Évènements pour La Cigale de Royan
REFRESH-INTERVAL;VALUE=DURATION:PT1H
X-Robots-Tag:noindex
X-PUBLISHED-TTL:PT1H
BEGIN:VTIMEZONE
TZID:Europe/Paris
BEGIN:DAYLIGHT
TZOFFSETFROM:+0100
TZOFFSETTO:+0200
TZNAME:CEST
DTSTART:20250330T010000
END:DAYLIGHT
BEGIN:STANDARD
TZOFFSETFROM:+0200
TZOFFSETTO:+0100
TZNAME:CET
DTSTART:20251026T010000
END:STANDARD
BEGIN:DAYLIGHT
TZOFFSETFROM:+0100
TZOFFSETTO:+0200
TZNAME:CEST
DTSTART:20260329T010000
END:DAYLIGHT
BEGIN:STANDARD
TZOFFSETFROM:+0200
TZOFFSETTO:+0100
TZNAME:CET
DTSTART:20261025T010000
END:STANDARD
BEGIN:DAYLIGHT
TZOFFSETFROM:+0100
TZOFFSETTO:+0200
TZNAME:CEST
DTSTART:20270328T010000
END:DAYLIGHT
BEGIN:STANDARD
TZOFFSETFROM:+0200
TZOFFSETTO:+0100
TZNAME:CET
DTSTART:20271031T010000
END:STANDARD
END:VTIMEZONE
BEGIN:VEVENT
DTSTART;TZID=Europe/Paris:20260417T203000
DTEND;TZID=Europe/Paris:20260417T233000
DTSTAMP:20260425T185839
CREATED:20260127T064408Z
LAST-MODIFIED:20260127T064408Z
UID:26961-1776457800-1776468600@www.lacigalederoyan.com
SUMMARY:LES STONERS
DESCRIPTION:Plongez dans l’énergie légendaire des Rolling Stones le temps d’un concert hommage explosif ! Des riffs mythiques aux grooves imparables\, ce tribute fait revivre les plus grands classiques du plus grand groupe de rock’n’roll de tous les temps. Satisfaction\, Jumpin’ Jack Flash\, Gimme Shelter… un show 100 % live\, fidèle à l’esprit\, au son et à l’attitude des Stones. Let’s rock! \n🎫 Billetterie : billetweb.fr/stoners
URL:https://www.lacigalederoyan.com/event/les-stoners/
LOCATION:La cigale de Royan\, 79 avenue de la grande conche\, Royan\, 17200\, France
ATTACH;FMTTYPE=image/jpeg:https://www.lacigalederoyan.com/wp-content/uploads/2026/01/MIGNATURE-SITE-WEB-15.jpg
ORGANIZER;CN="La Cigale de Royan":MAILTO:contact@lacigalederoyan.com
END:VEVENT
END:VCALENDAR