BEGIN:VCALENDAR
VERSION:2.0
PRODID:-//La Cigale de Royan - ECPv6.15.20//NONSGML v1.0//EN
CALSCALE:GREGORIAN
METHOD:PUBLISH
X-WR-CALNAME:La Cigale de Royan
X-ORIGINAL-URL:https://www.lacigalederoyan.com
X-WR-CALDESC:Évènements pour La Cigale de Royan
REFRESH-INTERVAL;VALUE=DURATION:PT1H
X-Robots-Tag:noindex
X-PUBLISHED-TTL:PT1H
BEGIN:VTIMEZONE
TZID:Europe/Paris
BEGIN:DAYLIGHT
TZOFFSETFROM:+0100
TZOFFSETTO:+0200
TZNAME:CEST
DTSTART:20250330T010000
END:DAYLIGHT
BEGIN:STANDARD
TZOFFSETFROM:+0200
TZOFFSETTO:+0100
TZNAME:CET
DTSTART:20251026T010000
END:STANDARD
BEGIN:DAYLIGHT
TZOFFSETFROM:+0100
TZOFFSETTO:+0200
TZNAME:CEST
DTSTART:20260329T010000
END:DAYLIGHT
BEGIN:STANDARD
TZOFFSETFROM:+0200
TZOFFSETTO:+0100
TZNAME:CET
DTSTART:20261025T010000
END:STANDARD
BEGIN:DAYLIGHT
TZOFFSETFROM:+0100
TZOFFSETTO:+0200
TZNAME:CEST
DTSTART:20270328T010000
END:DAYLIGHT
BEGIN:STANDARD
TZOFFSETFROM:+0200
TZOFFSETTO:+0100
TZNAME:CET
DTSTART:20271031T010000
END:STANDARD
END:VTIMEZONE
BEGIN:VEVENT
DTSTART;TZID=Europe/Paris:20260424T203000
DTEND;TZID=Europe/Paris:20260424T235500
DTSTAMP:20260425T185754
CREATED:20260309T221545Z
LAST-MODIFIED:20260309T221545Z
UID:27025-1777062600-1777074900@www.lacigalederoyan.com
SUMMARY:Soul Kitchen
DESCRIPTION:Depuis 2012\, Soul Kitchen incarne une soul vintage inspirée des sixties\, du R&B et de la Northern Soul (Stax & Motown sound). \nNotre Soul band propose un show magique et énergique avec 2 soul star sisters aux voix sensuelles et envoûtantes. Groupe de live\, nos concerts sont des moments suspendus\, explosifs\, élégants\, émouvants… Une incantation à l’amour\, la joie\, la danse\, l’espoir\, au plaisir\, au groove\, au partage\, au lâcher prise\, au rêve… En résumé c’est la chance de ressentir du bonheur pendant un concert mémorable \nNous jouons des compositions originales\, des classiques (Aretha Franklin\, Ike & Tina Turner\, Sam and Dave…)\, et des morceaux plus confidentiels (Gloria Jones\, Nolan Porter\, Edwin Starr…) \nTu veux participer au show ? Viens habillé dans l’esprit vintage 60s 70s… lunettes de soleil plastique oversize\, gogo boots blanche\, mini jupe\, robe droite\, pantalon patte d’éléphants\, chemises col pelle a tarte\, à fleurs\, space age\, psyché… \n🎫 Billetterie : billetweb.fr/soul-kitchen1 \nVideo : \n\n\nhttps://www.youtube.com/watch?v=EgyinsV4QdA \nhttps://www.youtube.com/watch?v=p9r-e44zK-U \n 
URL:https://www.lacigalederoyan.com/event/soul-kitchen/
LOCATION:La cigale de Royan\, 79 avenue de la grande conche\, Royan\, 17200\, France
ATTACH;FMTTYPE=image/jpeg:https://www.lacigalederoyan.com/wp-content/uploads/2026/03/MIGNATURE-SITE-WEB-10.jpg
ORGANIZER;CN="La Cigale de Royan":MAILTO:contact@lacigalederoyan.com
END:VEVENT
END:VCALENDAR