BEGIN:VCALENDAR
VERSION:2.0
PRODID:-//La Cigale de Royan - ECPv6.15.20//NONSGML v1.0//EN
CALSCALE:GREGORIAN
METHOD:PUBLISH
X-WR-CALNAME:La Cigale de Royan
X-ORIGINAL-URL:https://www.lacigalederoyan.com
X-WR-CALDESC:Évènements pour La Cigale de Royan
REFRESH-INTERVAL;VALUE=DURATION:PT1H
X-Robots-Tag:noindex
X-PUBLISHED-TTL:PT1H
BEGIN:VTIMEZONE
TZID:Europe/Paris
BEGIN:DAYLIGHT
TZOFFSETFROM:+0100
TZOFFSETTO:+0200
TZNAME:CEST
DTSTART:20250330T010000
END:DAYLIGHT
BEGIN:STANDARD
TZOFFSETFROM:+0200
TZOFFSETTO:+0100
TZNAME:CET
DTSTART:20251026T010000
END:STANDARD
BEGIN:DAYLIGHT
TZOFFSETFROM:+0100
TZOFFSETTO:+0200
TZNAME:CEST
DTSTART:20260329T010000
END:DAYLIGHT
BEGIN:STANDARD
TZOFFSETFROM:+0200
TZOFFSETTO:+0100
TZNAME:CET
DTSTART:20261025T010000
END:STANDARD
BEGIN:DAYLIGHT
TZOFFSETFROM:+0100
TZOFFSETTO:+0200
TZNAME:CEST
DTSTART:20270328T010000
END:DAYLIGHT
BEGIN:STANDARD
TZOFFSETFROM:+0200
TZOFFSETTO:+0100
TZNAME:CET
DTSTART:20271031T010000
END:STANDARD
END:VTIMEZONE
BEGIN:VEVENT
DTSTART;TZID=Europe/Paris:20260425T203000
DTEND;TZID=Europe/Paris:20260425T233000
DTSTAMP:20260425T175523
CREATED:20260205T101609Z
LAST-MODIFIED:20260320T211410Z
UID:26980-1777149000-1777159800@www.lacigalederoyan.com
SUMMARY:ÉLÉMENT SONGE\,  MON CHER GASPARD!
DESCRIPTION:Depuis leur rencontre à Paris ce 24 décembre\, Clémence et Gaspard se sont retrouvés\nà Venise. Après quelques péripéties\, ils ont quitté la cité des amoureux (ou la cité des\nDoges) pour la Corrèze. Une ferme\, des vaches\, des chèvres des gallinacés et un\npotager. Seulement\, la reconversion est difficile et la faillite imminente : plus de 700\n000 euros de dette\, une hypothèque et le désespoir ! Gaspard est accablé mais\nClémence fomente des projets Ubuesques comme à son habitude pour sortir de\nl’impasse\, sous l’œil méfiant d’un huissier perverti\, d’une mafieuse menaçante\, d’une\ntata d’Amérique et d’une voisine fouineuse !\nEntre rires et fous-rires\, surprises et rebondissements\, l’épilogue sonne le réveil d’une\nchute inattendue ! \n🎫 Billetterie : billetweb.fr/l-ment-songe-mon-cher-gaspard \n \nhttps://www.lacigalederoyan.com/wp-content/uploads/2026/02/WhatsApp-Video-2026-03-18-at-15.31.39.mp4
URL:https://www.lacigalederoyan.com/event/element-songe-mon-cher-gaspard/
LOCATION:La cigale de Royan\, 79 avenue de la grande conche\, Royan\, 17200\, France
ATTACH;FMTTYPE=image/jpeg:https://www.lacigalederoyan.com/wp-content/uploads/2026/02/MIGNATURE-SITE-WEB-2.jpg
ORGANIZER;CN="La Cigale de Royan":MAILTO:contact@lacigalederoyan.com
END:VEVENT
END:VCALENDAR