BEGIN:VCALENDAR
VERSION:2.0
PRODID:-//La Cigale de Royan - ECPv6.15.20//NONSGML v1.0//EN
CALSCALE:GREGORIAN
METHOD:PUBLISH
X-WR-CALNAME:La Cigale de Royan
X-ORIGINAL-URL:https://www.lacigalederoyan.com
X-WR-CALDESC:Évènements pour La Cigale de Royan
REFRESH-INTERVAL;VALUE=DURATION:PT1H
X-Robots-Tag:noindex
X-PUBLISHED-TTL:PT1H
BEGIN:VTIMEZONE
TZID:Europe/Paris
BEGIN:DAYLIGHT
TZOFFSETFROM:+0100
TZOFFSETTO:+0200
TZNAME:CEST
DTSTART:20250330T010000
END:DAYLIGHT
BEGIN:STANDARD
TZOFFSETFROM:+0200
TZOFFSETTO:+0100
TZNAME:CET
DTSTART:20251026T010000
END:STANDARD
BEGIN:DAYLIGHT
TZOFFSETFROM:+0100
TZOFFSETTO:+0200
TZNAME:CEST
DTSTART:20260329T010000
END:DAYLIGHT
BEGIN:STANDARD
TZOFFSETFROM:+0200
TZOFFSETTO:+0100
TZNAME:CET
DTSTART:20261025T010000
END:STANDARD
BEGIN:DAYLIGHT
TZOFFSETFROM:+0100
TZOFFSETTO:+0200
TZNAME:CEST
DTSTART:20270328T010000
END:DAYLIGHT
BEGIN:STANDARD
TZOFFSETFROM:+0200
TZOFFSETTO:+0100
TZNAME:CET
DTSTART:20271031T010000
END:STANDARD
END:VTIMEZONE
BEGIN:VEVENT
DTSTART;TZID=Europe/Paris:20260426T143000
DTEND;TZID=Europe/Paris:20260426T190000
DTSTAMP:20260425T185936
CREATED:20260309T221801Z
LAST-MODIFIED:20260309T221801Z
UID:27029-1777213800-1777230000@www.lacigalederoyan.com
SUMMARY:JP Roy - Thé dansant
DESCRIPTION:Nous avons le plaisir de vous inviter à partager un moment chaleureux et convivial autour d’un thé dansant. Musique\, danse et bonne humeur seront au rendez-vous pour passer ensemble un bel après-midi.
URL:https://www.lacigalederoyan.com/event/jp-roy-the-dansant/
LOCATION:La cigale de Royan\, 79 avenue de la grande conche\, Royan\, 17200\, France
ATTACH;FMTTYPE=image/png:https://www.lacigalederoyan.com/wp-content/uploads/2025/09/MIGNATURE-SITE-WEB-6.png
END:VEVENT
END:VCALENDAR