BEGIN:VCALENDAR
VERSION:2.0
PRODID:-//La Cigale de Royan - ECPv6.15.20//NONSGML v1.0//EN
CALSCALE:GREGORIAN
METHOD:PUBLISH
X-ORIGINAL-URL:https://www.lacigalederoyan.com
X-WR-CALDESC:Évènements pour La Cigale de Royan
REFRESH-INTERVAL;VALUE=DURATION:PT1H
X-Robots-Tag:noindex
X-PUBLISHED-TTL:PT1H
BEGIN:VTIMEZONE
TZID:Europe/Paris
BEGIN:DAYLIGHT
TZOFFSETFROM:+0100
TZOFFSETTO:+0200
TZNAME:CEST
DTSTART:20250330T010000
END:DAYLIGHT
BEGIN:STANDARD
TZOFFSETFROM:+0200
TZOFFSETTO:+0100
TZNAME:CET
DTSTART:20251026T010000
END:STANDARD
BEGIN:DAYLIGHT
TZOFFSETFROM:+0100
TZOFFSETTO:+0200
TZNAME:CEST
DTSTART:20260329T010000
END:DAYLIGHT
BEGIN:STANDARD
TZOFFSETFROM:+0200
TZOFFSETTO:+0100
TZNAME:CET
DTSTART:20261025T010000
END:STANDARD
BEGIN:DAYLIGHT
TZOFFSETFROM:+0100
TZOFFSETTO:+0200
TZNAME:CEST
DTSTART:20270328T010000
END:DAYLIGHT
BEGIN:STANDARD
TZOFFSETFROM:+0200
TZOFFSETTO:+0100
TZNAME:CET
DTSTART:20271031T010000
END:STANDARD
END:VTIMEZONE
BEGIN:VEVENT
DTSTART;TZID=Europe/Paris:20260502T203000
DTEND;TZID=Europe/Paris:20260502T223000
DTSTAMP:20260425T190301
CREATED:20260402T091720Z
LAST-MODIFIED:20260402T091720Z
UID:27071-1777753800-1777761000@www.lacigalederoyan.com
SUMMARY:Les Chicoufs - Théâtre
DESCRIPTION:Chic ils arrivent\,\nOuf ils repartent \nMais vivement qu’ils reviennent \nQui donc ? \nLes petits enfants bien sûr !!! \nGrands parents venez revivre en direct live vos aventures\net émotions du premier petit enfant à l’aîné ado qui ne\nvous calcule plus : la première garde aux enjeux\nconsidérables\, les suivantes qui maintiennent la pression et\nle plaisir avec les contes (le petit chaperon rouge version\n« pied noir »)\, la fête foraine\, l’aire de jeux\, … \nQuadras venez goûter vos madeleines de Proust (plateau\ntélé devant Dorothée chez Papi et Mami) \nQuinquas\, venez voir ce qui risque de vous attendre. \nUn spectacle dynamique\, drôle et émouvant à voir en\nfamille pour se faire du bien ! \n🎫 Billetterie : billetweb.fr/les-chicoufs
URL:https://www.lacigalederoyan.com/event/les-chicoufs-theatre/
LOCATION:La cigale de Royan\, 79 avenue de la grande conche\, Royan\, 17200\, France
ATTACH;FMTTYPE=image/jpeg:https://www.lacigalederoyan.com/wp-content/uploads/2026/04/MIGNATURE-SITE-WEB-2.jpg
ORGANIZER;CN="La Cigale de Royan":MAILTO:contact@lacigalederoyan.com
END:VEVENT
END:VCALENDAR