BEGIN:VCALENDAR
VERSION:2.0
PRODID:-//La Cigale de Royan - ECPv6.15.20//NONSGML v1.0//EN
CALSCALE:GREGORIAN
METHOD:PUBLISH
X-WR-CALNAME:La Cigale de Royan
X-ORIGINAL-URL:https://www.lacigalederoyan.com
X-WR-CALDESC:Évènements pour La Cigale de Royan
REFRESH-INTERVAL;VALUE=DURATION:PT1H
X-Robots-Tag:noindex
X-PUBLISHED-TTL:PT1H
BEGIN:VTIMEZONE
TZID:Europe/Paris
BEGIN:DAYLIGHT
TZOFFSETFROM:+0100
TZOFFSETTO:+0200
TZNAME:CEST
DTSTART:20250330T010000
END:DAYLIGHT
BEGIN:STANDARD
TZOFFSETFROM:+0200
TZOFFSETTO:+0100
TZNAME:CET
DTSTART:20251026T010000
END:STANDARD
BEGIN:DAYLIGHT
TZOFFSETFROM:+0100
TZOFFSETTO:+0200
TZNAME:CEST
DTSTART:20260329T010000
END:DAYLIGHT
BEGIN:STANDARD
TZOFFSETFROM:+0200
TZOFFSETTO:+0100
TZNAME:CET
DTSTART:20261025T010000
END:STANDARD
BEGIN:DAYLIGHT
TZOFFSETFROM:+0100
TZOFFSETTO:+0200
TZNAME:CEST
DTSTART:20270328T010000
END:DAYLIGHT
BEGIN:STANDARD
TZOFFSETFROM:+0200
TZOFFSETTO:+0100
TZNAME:CET
DTSTART:20271031T010000
END:STANDARD
END:VTIMEZONE
BEGIN:VEVENT
DTSTART;TZID=Europe/Paris:20260605T203000
DTEND;TZID=Europe/Paris:20260605T230000
DTSTAMP:20260425T221249
CREATED:20260404T202924Z
LAST-MODIFIED:20260404T203131Z
UID:27090-1780691400-1780700400@www.lacigalederoyan.com
SUMMARY:Tribute AC/DC⚡️
DESCRIPTION:Black Jack est un groupe de rock de Bordeaux spécialisé dans les reprises d’ACDC. \nVéritable Tribute AC/DC mythique groupe de rock le plus célèbre de tous les temps avec ses hymnes planétaires et Angus Young son guitariste en costume d’écolier… \nA travers son show survolté\, Black Jack vous invite à vivre deux heures de live en hommage à AC/DC cet OVNI du Rock avec les plus grand titres du groupes : Highway To Hell\, Back In Black\, Thunderstruck\, You Shook Me All Night Long\, T.N.T\, mais aussi d’autres chansons moins connues mais tout aussi énergiques et communicatives. \n🎫 Billetterie : billetweb.fr/tribute-ac-dc1
URL:https://www.lacigalederoyan.com/event/tribute-ac-dc%e2%9a%a1%ef%b8%8f/
LOCATION:La cigale de Royan\, 79 avenue de la grande conche\, Royan\, 17200\, France
ATTACH;FMTTYPE=image/jpeg:https://www.lacigalederoyan.com/wp-content/uploads/2026/04/MIGNATURE-SITE-WEB-6.jpg
ORGANIZER;CN="La Cigale de Royan":MAILTO:contact@lacigalederoyan.com
END:VEVENT
END:VCALENDAR