BEGIN:VCALENDAR
VERSION:2.0
PRODID:-//La Cigale de Royan - ECPv6.15.20//NONSGML v1.0//EN
CALSCALE:GREGORIAN
METHOD:PUBLISH
X-ORIGINAL-URL:https://www.lacigalederoyan.com
X-WR-CALDESC:Évènements pour La Cigale de Royan
REFRESH-INTERVAL;VALUE=DURATION:PT1H
X-Robots-Tag:noindex
X-PUBLISHED-TTL:PT1H
BEGIN:VTIMEZONE
TZID:Europe/Paris
BEGIN:DAYLIGHT
TZOFFSETFROM:+0100
TZOFFSETTO:+0200
TZNAME:CEST
DTSTART:20240331T010000
END:DAYLIGHT
BEGIN:STANDARD
TZOFFSETFROM:+0200
TZOFFSETTO:+0100
TZNAME:CET
DTSTART:20241027T010000
END:STANDARD
BEGIN:DAYLIGHT
TZOFFSETFROM:+0100
TZOFFSETTO:+0200
TZNAME:CEST
DTSTART:20250330T010000
END:DAYLIGHT
BEGIN:STANDARD
TZOFFSETFROM:+0200
TZOFFSETTO:+0100
TZNAME:CET
DTSTART:20251026T010000
END:STANDARD
BEGIN:DAYLIGHT
TZOFFSETFROM:+0100
TZOFFSETTO:+0200
TZNAME:CEST
DTSTART:20260329T010000
END:DAYLIGHT
BEGIN:STANDARD
TZOFFSETFROM:+0200
TZOFFSETTO:+0100
TZNAME:CET
DTSTART:20261025T010000
END:STANDARD
BEGIN:DAYLIGHT
TZOFFSETFROM:+0100
TZOFFSETTO:+0200
TZNAME:CEST
DTSTART:20270328T010000
END:DAYLIGHT
BEGIN:STANDARD
TZOFFSETFROM:+0200
TZOFFSETTO:+0100
TZNAME:CET
DTSTART:20271031T010000
END:STANDARD
END:VTIMEZONE
BEGIN:VEVENT
DTSTART;TZID=Europe/Paris:20251231T190000
DTEND;TZID=Europe/Paris:20260101T030000
DTSTAMP:20260425T221402
CREATED:20251104T223251Z
LAST-MODIFIED:20251105T092926Z
UID:26828-1767207600-1767236400@www.lacigalederoyan.com
SUMMARY:St Sylvestre
DESCRIPTION:Venez célébrer la Saint-Sylvestre dans une ambiance festive et conviviale !🥳Rendez-vous à la Cigale de Royan pour une soirée exceptionnelle\, rythmée par musique\, danse et surprises.Partageons ensemble le passage à la nouvelle année dans la joie et la bonne humeur !🤩 \nVous pouvez-vous inscrire sur billetWeb mais pour valider votre inscription\, il faudra déposer à la Cigale un acompte de 50 € en chèque ou en espèces \n🎫 : billetweb.fr/st-sylvestre
URL:https://www.lacigalederoyan.com/event/st-sylvestre/
LOCATION:La cigale de Royan\, 79 avenue de la grande conche\, Royan\, 17200\, France
ATTACH;FMTTYPE=image/png:https://www.lacigalederoyan.com/wp-content/uploads/2025/11/MIGNATURE-SITE-WEB.png
ORGANIZER;CN="La Cigale de Royan":MAILTO:contact@lacigalederoyan.com
END:VEVENT
BEGIN:VEVENT
DTSTART;TZID=Europe/Paris:20260116T204500
DTEND;TZID=Europe/Paris:20260116T230000
DTSTAMP:20260425T221402
CREATED:20250713T102751Z
LAST-MODIFIED:20250905T192445Z
UID:26554-1768596300-1768604400@www.lacigalederoyan.com
SUMMARY:Carrefour des Talents 17 - LOU CASA  - Brel & Barbara
DESCRIPTION:LOU CASA  – Brel & Barbara\nUne Révélation du festival Off d’Avignon \nVendredi 16 janvier 2026\, à La Cigale de Royan\, vivez un moment fort avec « Lou Casa\, Barbara & Brel » ! Ce spectacle rend hommage à Barbara et Brel\, entre mots chantés\, parlés\, et arrangements contemporains signés Lou Casa. Marc Casa et son trio revisitent des titres cultes comme « Mathilde » ou « L’amoureuse »\, avec émotion et modernité. Une rencontre sensible entre deux géants de la chanson française\, à revivre sur scène. À La Cigale de Royan\, le temps suspend son vol. Ne manquez pas Lou Casa\, Barbara & Brel ! \n  \nPossibilité de petite restauration de 19h à 20h \n \n \n  \n  \nBilletterie 26€ / adhérents:21€. \nhttps://www.helloasso.com/associations/aa-carrefour-des-talents-17/evenements/hommage-a-brel-barbara-par-lou-casa \n  \n 
URL:https://www.lacigalederoyan.com/event/carrefour-des-talents-17-lou-casa-brel-barbara/
LOCATION:La cigale de Royan\, 79 avenue de la grande conche\, Royan\, 17200\, France
CATEGORIES:Chanson
ATTACH;FMTTYPE=image/jpeg:https://www.lacigalederoyan.com/wp-content/uploads/2025/07/4-HOMMAGE-BREL-BARBARA-VIGNETTE.jpg
ORGANIZER;CN="carrefour des talents 17":MAILTO:alain.abril17@orange.fr
END:VEVENT
BEGIN:VEVENT
DTSTART;TZID=Europe/Paris:20260117T193000
DTEND;TZID=Europe/Paris:20260117T233000
DTSTAMP:20260425T221402
CREATED:20251202T182155Z
LAST-MODIFIED:20251202T182155Z
UID:26858-1768678200-1768692600@www.lacigalederoyan.com
SUMMARY:ValerieWhiteBand
DESCRIPTION:ValerieWhiteBand est un quintet qui met en évidence l’essence même de la musique Blues grâce à une section rythmique au groove ancré\, section assurée par Christophe Beausset à la batterie et Cyril Babin à la basse. Avec des mélodies\, des riffs et des solos de guitare maîtrisés par Mister Tchang et Mehdi Atmouni \, cette formation permet de visiter le Blues et ces différents styles\, enrichie par le chant de ValerieWhite. Elle permet au public d’entrer dans une ambiance rythmée\, chaleureuse\, dansante grâce à une set liste ciselée. \n🎫 : billetweb.fr/valerie-white-band1
URL:https://www.lacigalederoyan.com/event/valeriewhiteband/
LOCATION:La cigale de Royan\, 79 avenue de la grande conche\, Royan\, 17200\, France
ATTACH;FMTTYPE=image/jpeg:https://www.lacigalederoyan.com/wp-content/uploads/2025/12/MIGNATURE-SITE-WEB-2.jpg
ORGANIZER;CN="La Cigale de Royan":MAILTO:contact@lacigalederoyan.com
END:VEVENT
BEGIN:VEVENT
DTSTART;TZID=Europe/Paris:20260118T180000
DTEND;TZID=Europe/Paris:20260118T220000
DTSTAMP:20260425T221402
CREATED:20251103T225916Z
LAST-MODIFIED:20251221T200321Z
UID:26816-1768759200-1768773600@www.lacigalederoyan.com
SUMMARY:JAM SESSION
DESCRIPTION:JAM Session de la Cigale de Royan \nde 18h à 22h un dimanche par mois\, Didier Prossaird vous invite à partager la scène. \nUne belle occasion pour tous les amoureux du jazz\, qu’ils soient musiciens amateurs ou professionnels de la région\, de se retrouver sur la scène ouverte de La Cigale de Royan afin de partager quelques grands standards du jazz. \nAmenez vos instruments. Batterie et piano sur place \n🎫 : billetweb.fr/jam-session31
URL:https://www.lacigalederoyan.com/event/jam-session-2/
LOCATION:La cigale de Royan\, 79 avenue de la grande conche\, Royan\, 17200\, France
ATTACH;FMTTYPE=image/png:https://www.lacigalederoyan.com/wp-content/uploads/2025/09/MIGNATURE-SITE-WEB-4.png
ORGANIZER;CN="La Cigale de Royan":MAILTO:contact@lacigalederoyan.com
END:VEVENT
BEGIN:VEVENT
DTSTART;TZID=Europe/Paris:20260123T200000
DTEND;TZID=Europe/Paris:20260123T233000
DTSTAMP:20260425T221402
CREATED:20251231T113950Z
LAST-MODIFIED:20251231T113950Z
UID:26909-1769198400-1769211000@www.lacigalederoyan.com
SUMMARY:TOURNOI BABY FOOT
DESCRIPTION:
URL:https://www.lacigalederoyan.com/event/tournoi-baby-foot/
LOCATION:La cigale de Royan\, 79 avenue de la grande conche\, Royan\, 17200\, France
ATTACH;FMTTYPE=image/jpeg:https://www.lacigalederoyan.com/wp-content/uploads/2025/12/MIGNATURE-SITE-WEB-9.jpg
ORGANIZER;CN="La Cigale de Royan":MAILTO:contact@lacigalederoyan.com
END:VEVENT
BEGIN:VEVENT
DTSTART;TZID=Europe/Paris:20260124T203000
DTEND;TZID=Europe/Paris:20260124T233000
DTSTAMP:20260425T221402
CREATED:20251104T174718Z
LAST-MODIFIED:20251231T111843Z
UID:26818-1769286600-1769297400@www.lacigalederoyan.com
SUMMARY:BONKERS
DESCRIPTION:BONKERS traverse les époques\, des années 60 à nos jours. Il pioche dans les classiques du genre\, du rock à la pop\, de Police à U2 en passant par Téléphone ou The Beatles. Ce power trio plein d’énergie\, composé de Valentin (guitare/chant)\, Julien(batterie) et Nicolas (basse) distille un répertoire plein de nuance pour le plaisir d’un public multi-générationnel.Fort de leur expérience dans l’évènementiel\, du festif à la musique d’ambiance ou set acoustique\, Bonkers s’adaptera à tout type d’évènement (CE\, mariages\, anniversaires\, vins d’honneurs\, festivals\, bar etc…)​ \n🎫 : billetweb.fr/bonkers2 \n  \n\n\n\nhttps://www.lacigalederoyan.com/wp-content/uploads/2025/11/bonkers.mp4
URL:https://www.lacigalederoyan.com/event/bonkers-2/
LOCATION:La cigale de Royan\, 79 avenue de la grande conche\, Royan\, 17200\, France
ATTACH;FMTTYPE=image/jpeg:https://www.lacigalederoyan.com/wp-content/uploads/2025/04/53CD898B-2909-486B-95D3-C53EACA9F2EF_1_201_a.jpeg
ORGANIZER;CN="La Cigale de Royan":MAILTO:contact@lacigalederoyan.com
END:VEVENT
BEGIN:VEVENT
DTSTART;TZID=Europe/Paris:20260125T143000
DTEND;TZID=Europe/Paris:20260125T190000
DTSTAMP:20260425T221402
CREATED:20251224T155715Z
LAST-MODIFIED:20251224T162949Z
UID:26888-1769351400-1769367600@www.lacigalederoyan.com
SUMMARY:Stéphanie Moreau
DESCRIPTION:Nous avons le plaisir de vous inviter à partager un moment chaleureux et convivial autour d’un thé dansant. Musique\, danse et bonne humeur seront au rendez-vous pour passer ensemble un bel après-midi. \nBilleterie🎫 : billetweb.fr/stephanie-moreau
URL:https://www.lacigalederoyan.com/event/stephanie-moreau/
LOCATION:La cigale de Royan\, 79 avenue de la grande conche\, Royan\, 17200\, France
ATTACH;FMTTYPE=image/png:https://www.lacigalederoyan.com/wp-content/uploads/2025/09/MIGNATURE-SITE-WEB-6.png
ORGANIZER;CN="La Cigale de Royan":MAILTO:contact@lacigalederoyan.com
END:VEVENT
BEGIN:VEVENT
DTSTART;TZID=Europe/Paris:20260130T203000
DTEND;TZID=Europe/Paris:20260130T233000
DTSTAMP:20260425T221402
CREATED:20251224T164055Z
LAST-MODIFIED:20260120T065139Z
UID:26892-1769805000-1769815800@www.lacigalederoyan.com
SUMMARY:Antoine Le Roux JAZZ
DESCRIPTION:Laissez-vous emporter par les sonorités du jazz à l’harmonica. Un moment unique\, plein de swing\, d’émotion et de convivialité. \nLauréat du Premier Prix du Festival Rosa Vetrov de Moscou en 2003\, Antoine est également primé au Festival Mondial de l’Harmonica de Trossingen en 2005 et 2009\, en classique et en jazz. Il se produit notamment à l’Opéra Garnier en 2016 et 2019 (Casse-Noisette\, mise en scène de *Dmitri Tcherniakov) et collabore avec l’Orchestre National d’Île-de-France. Il se produit aujourd’hui sur de nombreuses scènes internationales aux côtés de musiciens reconnus. \n🎫 Billetterie : billetweb.fr/antoine-le-roux-jazz \n 
URL:https://www.lacigalederoyan.com/event/antoine-le-roux-jazz/
LOCATION:La cigale de Royan\, 79 avenue de la grande conche\, Royan\, 17200\, France
ATTACH;FMTTYPE=image/jpeg:https://www.lacigalederoyan.com/wp-content/uploads/2025/12/MIGNATURE-SITE-WEB-5.jpg
ORGANIZER;CN="La Cigale de Royan":MAILTO:contact@lacigalederoyan.com
END:VEVENT
BEGIN:VEVENT
DTSTART;TZID=Europe/Paris:20260131T203000
DTEND;TZID=Europe/Paris:20260131T233000
DTSTAMP:20260425T221402
CREATED:20251106T122958Z
LAST-MODIFIED:20251106T122958Z
UID:26840-1769891400-1769902200@www.lacigalederoyan.com
SUMMARY:TU T'LAISSES ALLER !!
DESCRIPTION:Après 45 ans de mariage. Claudine et Michel ont autant de difficultés à se supporter qu’à se séparer. La retraite n’est plus paisible du tout…\n\nIls décident de louer une de leurs chambres à une jeune étudiante qui\, telle une tornade\, va chambouler leur train train… Jusqu’à les faire dérailler « grave ! ». \n\n\n\n\n\n\n\nIls décident de louer une de leurs chambres à une jeune étudiante qui\, telle une tornade\, va chambouler leur train train… Jusqu’à les faire dérailler « grave ! ». \n🎫 : billetweb.fr/tu-tlaisses-aller3
URL:https://www.lacigalederoyan.com/event/tu-tlaisses-aller/
LOCATION:La cigale de Royan\, 79 avenue de la grande conche\, Royan\, 17200\, France
ATTACH;FMTTYPE=image/jpeg:https://www.lacigalederoyan.com/wp-content/uploads/2025/11/MIGNATURE-SITE-WEB-2-1.jpg
ORGANIZER;CN="La Cigale de Royan":MAILTO:contact@lacigalederoyan.com
END:VEVENT
END:VCALENDAR