BEGIN:VCALENDAR
VERSION:2.0
PRODID:-//La Cigale de Royan - ECPv6.15.20//NONSGML v1.0//EN
CALSCALE:GREGORIAN
METHOD:PUBLISH
X-ORIGINAL-URL:https://www.lacigalederoyan.com
X-WR-CALDESC:Évènements pour La Cigale de Royan
REFRESH-INTERVAL;VALUE=DURATION:PT1H
X-Robots-Tag:noindex
X-PUBLISHED-TTL:PT1H
BEGIN:VTIMEZONE
TZID:Europe/Paris
BEGIN:DAYLIGHT
TZOFFSETFROM:+0100
TZOFFSETTO:+0200
TZNAME:CEST
DTSTART:20250330T010000
END:DAYLIGHT
BEGIN:STANDARD
TZOFFSETFROM:+0200
TZOFFSETTO:+0100
TZNAME:CET
DTSTART:20251026T010000
END:STANDARD
BEGIN:DAYLIGHT
TZOFFSETFROM:+0100
TZOFFSETTO:+0200
TZNAME:CEST
DTSTART:20260329T010000
END:DAYLIGHT
BEGIN:STANDARD
TZOFFSETFROM:+0200
TZOFFSETTO:+0100
TZNAME:CET
DTSTART:20261025T010000
END:STANDARD
BEGIN:DAYLIGHT
TZOFFSETFROM:+0100
TZOFFSETTO:+0200
TZNAME:CEST
DTSTART:20270328T010000
END:DAYLIGHT
BEGIN:STANDARD
TZOFFSETFROM:+0200
TZOFFSETTO:+0100
TZNAME:CET
DTSTART:20271031T010000
END:STANDARD
END:VTIMEZONE
BEGIN:VEVENT
DTSTART;TZID=Europe/Paris:20260201T140000
DTEND;TZID=Europe/Paris:20260201T190000
DTSTAMP:20260425T204419
CREATED:20260126T120145Z
LAST-MODIFIED:20260126T120145Z
UID:26945-1769954400-1769972400@www.lacigalederoyan.com
SUMMARY:AMANTINO thé dansant
DESCRIPTION:Nous avons le plaisir de vous inviter à partager un moment chaleureux et convivial autour d’un thé dansant. Musique\, danse et bonne humeur seront au rendez-vous pour passer ensemble un bel après-midi. \n🎫Billetterie : billetweb.fr/amantino
URL:https://www.lacigalederoyan.com/event/amantino-the-dansant-2/
LOCATION:La cigale de Royan\, 79 avenue de la grande conche\, Royan\, 17200\, France
ATTACH;FMTTYPE=image/png:https://www.lacigalederoyan.com/wp-content/uploads/2025/09/MIGNATURE-SITE-WEB-6.png
ORGANIZER;CN="La Cigale de Royan":MAILTO:contact@lacigalederoyan.com
END:VEVENT
BEGIN:VEVENT
DTSTART;TZID=Europe/Paris:20260206T203000
DTEND;TZID=Europe/Paris:20260206T233000
DTSTAMP:20260425T204419
CREATED:20251224T165430Z
LAST-MODIFIED:20251224T165430Z
UID:26896-1770409800-1770420600@www.lacigalederoyan.com
SUMMARY:DJ JACKY
DESCRIPTION:Retour aux années disco ! DJ JACKY  aux platines\, des hits mythiques et une ambiance survoltée. \n🎫 Billetterie : billetweb.fr/dj-jacky2
URL:https://www.lacigalederoyan.com/event/dj-jacky-3/
LOCATION:La cigale de Royan\, 79 avenue de la grande conche\, Royan\, 17200\, France
ATTACH;FMTTYPE=image/jpeg:https://www.lacigalederoyan.com/wp-content/uploads/2025/12/MIGNATURE-SITE-WEB-6.jpg
ORGANIZER;CN="La Cigale de Royan":MAILTO:contact@lacigalederoyan.com
END:VEVENT
BEGIN:VEVENT
DTSTART;TZID=Europe/Paris:20260207T203000
DTEND;TZID=Europe/Paris:20260207T233000
DTSTAMP:20260425T204419
CREATED:20251224T170328Z
LAST-MODIFIED:20251224T170328Z
UID:26900-1770496200-1770507000@www.lacigalederoyan.com
SUMMARY:Amant malgrés lui
DESCRIPTION:Julien et Elodie forment un couple en apparence ordinaire… Mais que se cache t’il derrière les apparences ?\nPour rompre avec la routine\, Elodie décide\, par jeu\, de s’inscrire sur un site de rencontres. \nMais Julien l’apprend. Déstabilisé\, il va lui aussi s’inscrire\, sous un faux profil\, pour découvrir les intentions\nd’Elodie… A-t-il fait le bon choix ?\nEntre rires\, souvenirs\, désillusions et manipulations\, Julien et Elodie vous invitent au\ncoeur de leur histoire où le réel et le virtuel s’entremêlent.\nAuteur JULIEN SIGALAS\nMetteur en scène AUDREY STAHL TRUFFIER\nAvec JENNIFER GAUTHIER et CYRILLE ETOURNEAU \n🎫 Billetterie : billetweb.fr/ament-malgre-lui
URL:https://www.lacigalederoyan.com/event/amant-malgres-lui/
LOCATION:La cigale de Royan\, 79 avenue de la grande conche\, Royan\, 17200\, France
ATTACH;FMTTYPE=image/jpeg:https://www.lacigalederoyan.com/wp-content/uploads/2025/12/MIGNATURE-SITE-WEB-7.jpg
ORGANIZER;CN="La Cigale de Royan":MAILTO:contact@lacigalederoyan.com
END:VEVENT
BEGIN:VEVENT
DTSTART;TZID=Europe/Paris:20260208T180000
DTEND;TZID=Europe/Paris:20260208T233000
DTSTAMP:20260425T204419
CREATED:20251224T171137Z
LAST-MODIFIED:20251224T171137Z
UID:26904-1770573600-1770593400@www.lacigalederoyan.com
SUMMARY:JAM Session
DESCRIPTION:Place à l’impro et au partage ! Musiciens et passionnés se retrouvent pour une jam session pleine d’énergie. \n🎫 Billetterie : billetweb.fr/jam-session35
URL:https://www.lacigalederoyan.com/event/jam-session-4/
LOCATION:La cigale de Royan\, 79 avenue de la grande conche\, Royan\, 17200\, France
ATTACH;FMTTYPE=image/png:https://www.lacigalederoyan.com/wp-content/uploads/2025/09/MIGNATURE-SITE-WEB-4.png
ORGANIZER;CN="La Cigale de Royan":MAILTO:contact@lacigalederoyan.com
END:VEVENT
BEGIN:VEVENT
DTSTART;TZID=Europe/Paris:20260214T203000
DTEND;TZID=Europe/Paris:20260214T233000
DTSTAMP:20260425T204419
CREATED:20251104T190259Z
LAST-MODIFIED:20260121T224447Z
UID:26821-1771101000-1771111800@www.lacigalederoyan.com
SUMMARY:MOON FLOYD
DESCRIPTION:Moon Floyd vous invite à un voyage de 2h30 dans les univers de Pink Floyd. De Echoes à High Hopes\, en passant par Pigs\, The Wall ou Money\, ils rendront hommage à leurs illustres aînés\, créateurs d’une musique riche et envoûtante. Et comme nous serons encore dans le cinquantenaire du fabuleux Wish You Were Here\, ils ouvriront le concert en le jouant dans son intégralité.\nRéservez rapidement car leur dernier concert à Etaules s’est rempli à toute vitesse !\n\n\nTeaser : https://youtu.be/pbfkGDRc7aE\n\n🎫 : billetweb.fr/moon-floyd
URL:https://www.lacigalederoyan.com/event/moon-floyd/
LOCATION:La cigale de Royan\, 79 avenue de la grande conche\, Royan\, 17200\, France
ATTACH;FMTTYPE=image/jpeg:https://www.lacigalederoyan.com/wp-content/uploads/2025/11/MIGNATURE-SITE-WEB-6.jpg
ORGANIZER;CN="La Cigale de Royan":MAILTO:contact@lacigalederoyan.com
END:VEVENT
BEGIN:VEVENT
DTSTART;TZID=Europe/Paris:20260215T140000
DTEND;TZID=Europe/Paris:20260215T190000
DTSTAMP:20260425T204419
CREATED:20260126T121112Z
LAST-MODIFIED:20260126T121112Z
UID:26952-1771164000-1771182000@www.lacigalederoyan.com
SUMMARY:Yohan Berton thé dansant
DESCRIPTION:Nous avons le plaisir de vous inviter à partager un moment chaleureux et convivial autour d’un thé dansant. Musique\, danse et bonne humeur seront au rendez-vous pour passer ensemble un bel après-midi. \n🎫Billetterie : billetweb.fr/yohan-berton
URL:https://www.lacigalederoyan.com/event/yohan-berton-the-dansant/
LOCATION:La cigale de Royan\, 79 avenue de la grande conche\, Royan\, 17200\, France
ATTACH;FMTTYPE=image/png:https://www.lacigalederoyan.com/wp-content/uploads/2025/09/MIGNATURE-SITE-WEB-6.png
ORGANIZER;CN="La Cigale de Royan":MAILTO:contact@lacigalederoyan.com
END:VEVENT
BEGIN:VEVENT
DTSTART;TZID=Europe/Paris:20260219T204500
DTEND;TZID=Europe/Paris:20260219T230000
DTSTAMP:20260425T204419
CREATED:20250713T103131Z
LAST-MODIFIED:20250905T192419Z
UID:26557-1771533900-1771542000@www.lacigalederoyan.com
SUMMARY:Carrefour des Talents 17 - HOLLYWOOD BAZAR -
DESCRIPTION:HOLLYWOOD BAZAR Electro pop sur fond de Vidéos \n  \nLe vendredi 7 février 2026 à La Cigale de Royan\, Vincent Michaud présente son spectacle « Hollywood Bazar » : un trio électro-pop à l’humour affûté et aux textes percutants. Entre chanson\, slam et vidéo\, Vincent\, Grégory et Thibaud vous offrent une expérience scénique qui gratte les paillettes et titille les idées reçues. Avec un son urbain\, des beats précis et une énergie contagieuse\, Hollywood Bazar vous fait réfléchir en dansant. À La Cigale de Royan\, attendez-vous à un joyeux bazar\, drôle\, engagé et irrésistiblement rythmé. \n  \nPossibilité de petite restauration de 19h à 20h \n \n  \nBilletterie 26€ / adhérents:21€. \nhttps://www.helloasso.com/associations/aa-carrefour-des-talents-17/evenements/hollywood-bazar-a-la-cigale \n 
URL:https://www.lacigalederoyan.com/event/carrefour-des-talents-17-hollywood-bazar/
LOCATION:La cigale de Royan\, 79 avenue de la grande conche\, Royan\, 17200\, France
CATEGORIES:Concerts
ATTACH;FMTTYPE=image/jpeg:https://www.lacigalederoyan.com/wp-content/uploads/2025/07/5-HOLLYWOOD-BAZAR-VIGNETTE-.jpg
ORGANIZER;CN="carrefour des talents 17":MAILTO:alain.abril17@orange.fr
END:VEVENT
BEGIN:VEVENT
DTSTART;TZID=Europe/Paris:20260220T203000
DTEND;TZID=Europe/Paris:20260220T233000
DTSTAMP:20260425T204419
CREATED:20251106T121908Z
LAST-MODIFIED:20251106T121908Z
UID:26836-1771619400-1771630200@www.lacigalederoyan.com
SUMMARY:3 Drôles de blondes
DESCRIPTION:3 drôles de femmes aux personnalités bien frappées vont se lancer dans le cambriolage. Une comédie qui mêle fous rires et suspens.\n\nUne divorcée\, l’autre mariée et la 3ème butine sans cesse… Mais malgré leurs problèmes\, elles ont une pêche d’enfer ! Au lycée elles étaient inséparables et formaient le groupe des « Mesdemoiselles swing ». Concours de circonstances et stupides incidents font qu´elles vont se retrouver sur la paille en même temps et avoir un besoin urgent d’argent. Elles décident de se lancer dans le cambriolage ! Le gang des quinquas se crée. \nMais avant de se lancer réellement sur de gros coups\, elles vont devoir s’entraîner… De péripéties en galères\, cette simulation de cambriolage va tourner à la catastrophe… L’inimaginable va arriver. De quoi vous surprendre et bien vous faire rire ! \nAvec : Christelle Rizzuto\, Izabelle Laporte et Laure Tregouet \nUne pièce de Christelle Rizzuto \nMise en scène : Fabrice Blind et Vincent Varinier \n🎫 : billetweb.fr/3-droles-de-blondes3
URL:https://www.lacigalederoyan.com/event/3-droles-de-blondes/
LOCATION:La cigale de Royan\, 79 avenue de la grande conche\, Royan\, 17200\, France
ATTACH;FMTTYPE=image/jpeg:https://www.lacigalederoyan.com/wp-content/uploads/2025/11/MIGNATURE-SITE-WEB.jpg
ORGANIZER;CN="La Cigale de Royan":MAILTO:contact@lacigalederoyan.com
END:VEVENT
BEGIN:VEVENT
DTSTART;TZID=Europe/Paris:20260221T203000
DTEND;TZID=Europe/Paris:20260221T230000
DTSTAMP:20260425T204419
CREATED:20260120T064545Z
LAST-MODIFIED:20260120T064620Z
UID:26914-1771705800-1771714800@www.lacigalederoyan.com
SUMMARY:LES HALPSTERS
DESCRIPTION:Né à Frayssinet-le-Gélat\, élevé au bon son fruité de Freddie King\, à la guitare sucrée de Guitar Slim\, ou à la mélancolie tanisée de Jimmy Reed\, The Halfpsters est un groupe de blues dont la prestance et le charisme singulier n’ont d’égal que la qualité incontestée du blues qu’ils proposent lors de leurs concerts\, qui transforment toutes les scènes que le trio foule en haut-lieu du blues contemporain. \n🎫 Billetterie : billetweb.fr/les-halpsters \n \n 
URL:https://www.lacigalederoyan.com/event/les-halpsters/
LOCATION:La cigale de Royan\, 79 avenue de la grande conche\, Royan\, 17200\, France
ATTACH;FMTTYPE=image/jpeg:https://www.lacigalederoyan.com/wp-content/uploads/2026/01/MIGNATURE-SITE-WEB-10.jpg
ORGANIZER;CN="La Cigale de Royan":MAILTO:contact@lacigalederoyan.com
END:VEVENT
BEGIN:VEVENT
DTSTART;TZID=Europe/Paris:20260222T143000
DTEND;TZID=Europe/Paris:20260222T190000
DTSTAMP:20260425T204419
CREATED:20260126T120739Z
LAST-MODIFIED:20260126T120739Z
UID:26949-1771770600-1771786800@www.lacigalederoyan.com
SUMMARY:Stéphanie Moreaux
DESCRIPTION:Nous avons le plaisir de vous inviter à partager un moment chaleureux et convivial autour d’un thé dansant. Musique\, danse et bonne humeur seront au rendez-vous pour passer ensemble un bel après-midi. \nBilleterie🎫 :billetweb.fr/stephanie-moreaux
URL:https://www.lacigalederoyan.com/event/stephanie-moreaux/
LOCATION:La cigale de Royan\, 79 avenue de la grande conche\, Royan\, 17200\, France
ATTACH;FMTTYPE=image/png:https://www.lacigalederoyan.com/wp-content/uploads/2025/09/MIGNATURE-SITE-WEB-6.png
ORGANIZER;CN="La Cigale de Royan":MAILTO:contact@lacigalederoyan.com
END:VEVENT
BEGIN:VEVENT
DTSTART;TZID=Europe/Paris:20260227T203000
DTEND;TZID=Europe/Paris:20260227T233000
DTSTAMP:20260425T204419
CREATED:20260120T070702Z
LAST-MODIFIED:20260205T093709Z
UID:26921-1772224200-1772235000@www.lacigalederoyan.com
SUMMARY:Anaïs Naudin Jazz
DESCRIPTION:Bercée par le jazz depuis son plus jeune âge\, Anaïs est une chanteuse\, percussionniste et claquettiste originaire de La Rochelle.\nSe produisant en quartet\, elle revisite avec élégance les standards de swing et la chanson française\, enrichis d’influences de musique populaire brésilienne et de son talent pour le scat (chant improvisé).\nSon univers chaleureux et rythmé séduit par son énergie scénique et son sens du groove. \nElle est accompagnée par Alain Debiossat\, saxophoniste\, lauréat du Prix du Soliste au Concours national de jazz de La Défense\, membre fondateur du groupe Sixun\, et collaborateur de l’Orchestre National de Barbès \n🎫 Billetterie : billetweb.fr/anais-naudin-jazz \n  \n \n 
URL:https://www.lacigalederoyan.com/event/26921/
LOCATION:La cigale de Royan\, 79 avenue de la grande conche\, Royan\, 17200\, France
ATTACH;FMTTYPE=image/jpeg:https://www.lacigalederoyan.com/wp-content/uploads/2026/01/MIGNATURE-SITE-WEB.jpg
ORGANIZER;CN="La Cigale de Royan":MAILTO:contact@lacigalederoyan.com
END:VEVENT
BEGIN:VEVENT
DTSTART;TZID=Europe/Paris:20260228T203000
DTEND;TZID=Europe/Paris:20260228T233000
DTSTAMP:20260425T204419
CREATED:20260120T071605Z
LAST-MODIFIED:20260120T071605Z
UID:26926-1772310600-1772321400@www.lacigalederoyan.com
SUMMARY:Louisiana Band
DESCRIPTION:Auteur\, compositeur et interprète\, Raoul Ficel\, bien connu des aficionados de la musique du Diable a tout compris de l’art de créer des blues en français qui parlent à l’auditeur\, des blues qui lui ressemblent et qui s’égarent de manière récurrente sur des sujets proches du quotidien de tout un chacun\, histoire de mieux interpeller celui qui se reconnaît fatalement à un moment ou à un autre\, des blues minimalistes mais percutants à souhait. Il mêle tendresse et poésie dans un style rustique et bucolique afin de faire ressortir toute la quintessence du blues qui bouleverse les sens et donne le frisson\, tranché très proche de l’os pour conserver tout son mordant et toute sa saveur. Raoul Ficel vit le blues avec passion et humilité (depuis plus de trente ans)\, respire le blues\, transpire le blues\, le blues poisseux\, hypnotique\, envoûtant et roots\, comme si la Gironde était envahie par les champs de coton et les juke-joints. \n🎫 Billetterie : billetweb.fr/louisiana-band
URL:https://www.lacigalederoyan.com/event/louisiana-band/
LOCATION:La cigale de Royan\, 79 avenue de la grande conche\, Royan\, 17200\, France
ATTACH;FMTTYPE=image/jpeg:https://www.lacigalederoyan.com/wp-content/uploads/2026/01/MIGNATURE-SITE-WEB-12.jpg
ORGANIZER;CN="La Cigale de Royan":MAILTO:contact@lacigalederoyan.com
END:VEVENT
END:VCALENDAR