BEGIN:VCALENDAR
VERSION:2.0
PRODID:-//La Cigale de Royan - ECPv6.15.20//NONSGML v1.0//EN
CALSCALE:GREGORIAN
METHOD:PUBLISH
X-WR-CALNAME:La Cigale de Royan
X-ORIGINAL-URL:https://www.lacigalederoyan.com
X-WR-CALDESC:Évènements pour La Cigale de Royan
REFRESH-INTERVAL;VALUE=DURATION:PT1H
X-Robots-Tag:noindex
X-PUBLISHED-TTL:PT1H
BEGIN:VTIMEZONE
TZID:Europe/Paris
BEGIN:DAYLIGHT
TZOFFSETFROM:+0100
TZOFFSETTO:+0200
TZNAME:CEST
DTSTART:20250330T010000
END:DAYLIGHT
BEGIN:STANDARD
TZOFFSETFROM:+0200
TZOFFSETTO:+0100
TZNAME:CET
DTSTART:20251026T010000
END:STANDARD
BEGIN:DAYLIGHT
TZOFFSETFROM:+0100
TZOFFSETTO:+0200
TZNAME:CEST
DTSTART:20260329T010000
END:DAYLIGHT
BEGIN:STANDARD
TZOFFSETFROM:+0200
TZOFFSETTO:+0100
TZNAME:CET
DTSTART:20261025T010000
END:STANDARD
BEGIN:DAYLIGHT
TZOFFSETFROM:+0100
TZOFFSETTO:+0200
TZNAME:CEST
DTSTART:20270328T010000
END:DAYLIGHT
BEGIN:STANDARD
TZOFFSETFROM:+0200
TZOFFSETTO:+0100
TZNAME:CET
DTSTART:20271031T010000
END:STANDARD
END:VTIMEZONE
BEGIN:VEVENT
DTSTART;TZID=Europe/Paris:20260501T203000
DTEND;TZID=Europe/Paris:20260501T230000
DTSTAMP:20260425T190823
CREATED:20260417T212107Z
LAST-MODIFIED:20260417T212107Z
UID:27098-1777667400-1777676400@www.lacigalederoyan.com
SUMMARY:Jazz - Tribute Wes Montgomery
DESCRIPTION:Didier Prossaird invite le guitariste Didier Conchon et le batteur Laurent Bataille pour vous proposer un concert en hommage à la musique du grand guitariste américain Wes Montgomery.\nAu programme : un jazz plein d’énergie et de passion\, comme on aime vous le faire découvrir \n🎫 Billetterie. : billetweb.fr/tribute-wes-montgomery
URL:https://www.lacigalederoyan.com/event/jazz-tribute-wes-montgomery/
LOCATION:La cigale de Royan\, 79 avenue de la grande conche\, Royan\, 17200\, France
ATTACH;FMTTYPE=image/png:https://www.lacigalederoyan.com/wp-content/uploads/2026/04/MIGNATURE-SITE-WEB-2.png
ORGANIZER;CN="La Cigale de Royan":MAILTO:contact@lacigalederoyan.com
END:VEVENT
BEGIN:VEVENT
DTSTART;TZID=Europe/Paris:20260502T203000
DTEND;TZID=Europe/Paris:20260502T223000
DTSTAMP:20260425T190823
CREATED:20260402T091720Z
LAST-MODIFIED:20260402T091720Z
UID:27071-1777753800-1777761000@www.lacigalederoyan.com
SUMMARY:Les Chicoufs - Théâtre
DESCRIPTION:Chic ils arrivent\,\nOuf ils repartent \nMais vivement qu’ils reviennent \nQui donc ? \nLes petits enfants bien sûr !!! \nGrands parents venez revivre en direct live vos aventures\net émotions du premier petit enfant à l’aîné ado qui ne\nvous calcule plus : la première garde aux enjeux\nconsidérables\, les suivantes qui maintiennent la pression et\nle plaisir avec les contes (le petit chaperon rouge version\n« pied noir »)\, la fête foraine\, l’aire de jeux\, … \nQuadras venez goûter vos madeleines de Proust (plateau\ntélé devant Dorothée chez Papi et Mami) \nQuinquas\, venez voir ce qui risque de vous attendre. \nUn spectacle dynamique\, drôle et émouvant à voir en\nfamille pour se faire du bien ! \n🎫 Billetterie : billetweb.fr/les-chicoufs
URL:https://www.lacigalederoyan.com/event/les-chicoufs-theatre/
LOCATION:La cigale de Royan\, 79 avenue de la grande conche\, Royan\, 17200\, France
ATTACH;FMTTYPE=image/jpeg:https://www.lacigalederoyan.com/wp-content/uploads/2026/04/MIGNATURE-SITE-WEB-2.jpg
ORGANIZER;CN="La Cigale de Royan":MAILTO:contact@lacigalederoyan.com
END:VEVENT
BEGIN:VEVENT
DTSTART;TZID=Europe/Paris:20260503T140000
DTEND;TZID=Europe/Paris:20260503T190000
DTSTAMP:20260425T190823
CREATED:20260320T211751Z
LAST-MODIFIED:20260320T211909Z
UID:27044-1777816800-1777834800@www.lacigalederoyan.com
SUMMARY:Thé Dansant-Jo moisetti
DESCRIPTION:🎫 Billetterie : billetweb.fr/jo-moist-the-dansant
URL:https://www.lacigalederoyan.com/event/the-dansant-jo-moisetti-2/
LOCATION:La cigale de Royan\, 79 avenue de la grande conche\, Royan\, 17200\, France
ATTACH;FMTTYPE=image/png:https://www.lacigalederoyan.com/wp-content/uploads/2025/09/MIGNATURE-SITE-WEB-6.png
END:VEVENT
BEGIN:VEVENT
DTSTART;TZID=Europe/Paris:20260508T203000
DTEND;TZID=Europe/Paris:20260508T230000
DTSTAMP:20260425T190823
CREATED:20260320T215637Z
LAST-MODIFIED:20260320T215637Z
UID:27048-1778272200-1778281200@www.lacigalederoyan.com
SUMMARY:Not in Off
DESCRIPTION:🎫 Billetterie : billetweb.fr/not-in-off
URL:https://www.lacigalederoyan.com/event/not-in-off/
LOCATION:La cigale de Royan\, 79 avenue de la grande conche\, Royan\, 17200\, France
ATTACH;FMTTYPE=image/jpeg:https://www.lacigalederoyan.com/wp-content/uploads/2026/03/MIGNATURE-SITE-WEB-12.jpg
ORGANIZER;CN="La Cigale de Royan":MAILTO:contact@lacigalederoyan.com
END:VEVENT
BEGIN:VEVENT
DTSTART;TZID=Europe/Paris:20260509T203000
DTEND;TZID=Europe/Paris:20260509T220000
DTSTAMP:20260425T190823
CREATED:20260320T220613Z
LAST-MODIFIED:20260320T220613Z
UID:27052-1778358600-1778364000@www.lacigalederoyan.com
SUMMARY:Un weekend sans ma femme-Théâtre
DESCRIPTION:La femme de Hugues est partie pour le week-end avec sa meilleure amie.\nHugues savoure d’avance ces quarante-huit heures de célibat et de liberté\nqui se présentent à lui.\nSAUF QUE rien ne va pas se passer comme prévu…\nMesdames\, venez découvrir ce que font vos hommes lorsque vous êtes\nabsentes. \n🎫 Billetterie : billetweb.fr/un-weekend-sans-ma-femme
URL:https://www.lacigalederoyan.com/event/un-weekend-sans-ma-femme-theatre/
LOCATION:La cigale de Royan\, 79 avenue de la grande conche\, Royan\, 17200\, France
ATTACH;FMTTYPE=image/jpeg:https://www.lacigalederoyan.com/wp-content/uploads/2026/03/MIGNATURE-SITE-WEB-13.jpg
ORGANIZER;CN="La Cigale de Royan":MAILTO:contact@lacigalederoyan.com
END:VEVENT
BEGIN:VEVENT
DTSTART;TZID=Europe/Paris:20260510T180000
DTEND;TZID=Europe/Paris:20260510T220000
DTSTAMP:20260425T190823
CREATED:20260320T220945Z
LAST-MODIFIED:20260320T220945Z
UID:27057-1778436000-1778450400@www.lacigalederoyan.com
SUMMARY:Jam session
DESCRIPTION:Place à l’impro et au partage ! Musiciens et passionnés se retrouvent pour une jam session pleine d’énergie. \n🎫 Billetterie : billetweb.fr/jam-session39
URL:https://www.lacigalederoyan.com/event/jam-session-7/
LOCATION:La cigale de Royan\, 79 avenue de la grande conche\, Royan\, 17200\, France
ATTACH;FMTTYPE=image/png:https://www.lacigalederoyan.com/wp-content/uploads/2025/09/MIGNATURE-SITE-WEB-4.png
END:VEVENT
BEGIN:VEVENT
DTSTART;TZID=Europe/Paris:20260515T203000
DTEND;TZID=Europe/Paris:20260515T235500
DTSTAMP:20260425T190823
CREATED:20260404T194434Z
LAST-MODIFIED:20260404T194434Z
UID:27075-1778877000-1778889300@www.lacigalederoyan.com
SUMMARY:DJ Jacky
DESCRIPTION:Retour aux années disco ! DJ JACKY  aux platines\, des hits mythiques et une ambiance survoltée. \nTenue disco accepté bien sûr 🪩 \n🎫 Billetterie : billetweb.fr/dj-jacky4 \n 
URL:https://www.lacigalederoyan.com/event/dj-jacky-5/
LOCATION:La cigale de Royan\, 79 avenue de la grande conche\, Royan\, 17200\, France
ATTACH;FMTTYPE=image/jpeg:https://www.lacigalederoyan.com/wp-content/uploads/2026/04/MIGNATURE-SITE-WEB-3.jpg
ORGANIZER;CN="La Cigale de Royan":MAILTO:contact@lacigalederoyan.com
END:VEVENT
BEGIN:VEVENT
DTSTART;TZID=Europe/Paris:20260522T203000
DTEND;TZID=Europe/Paris:20260522T220000
DTSTAMP:20260425T190823
CREATED:20260404T200441Z
LAST-MODIFIED:20260404T200441Z
UID:27082-1779481800-1779487200@www.lacigalederoyan.com
SUMMARY:" Nuit d'ivresse " - Théâtre
DESCRIPTION:Venez redécouvrir la comédie à succès de Josiane Balasko ! \nJacques Belin est un animateur de télé ringard dont la carrière est sur le déclin. Un soir\, dans un a bistrot miteux en face d’une gare\, il fait la rencontre de Simone\, une pauvre fille qui sort de taule et qui n’a pas sa langue dans sa poche. \nPris par la boisson\, ces deux jeunes gens vont s’apprivoiser\, se confier\, se réinventer. Mais lorsque la gueule de bois et l’amnésie s’en mêlent au petit matin\, le réveil promet d’être difficile. \n🎫 Billetterie : https://www.billetweb.fr/nuit-divresse-royan
URL:https://www.lacigalederoyan.com/event/nuit-divresse-theatre/
LOCATION:La cigale de Royan\, 79 avenue de la grande conche\, Royan\, 17200\, France
ATTACH;FMTTYPE=image/jpeg:https://www.lacigalederoyan.com/wp-content/uploads/2026/04/MIGNATURE-SITE-WEB-5.jpg
END:VEVENT
BEGIN:VEVENT
DTSTART;TZID=Europe/Paris:20260529T203000
DTEND;TZID=Europe/Paris:20260529T230000
DTSTAMP:20260425T190823
CREATED:20260425T085347Z
LAST-MODIFIED:20260425T085413Z
UID:27102-1780086600-1780095600@www.lacigalederoyan.com
SUMMARY:Quintet Julien Bouyssou -  jazz\, rhythm'n'blues
DESCRIPTION:Accompagnateur depuis plus de dix ans d’artistes à la renommée mondiale tels que \nle chanteur crooner Théo Lawrence\, Curtis Salgado\, Nico Duportal\, Sax Gordon\, Nathan \nJames and d’autres encore\, c’est sous son propre nom que Julien Bouyssou rend hommage \ncette fois à la musique du sud des États-Unis. \nEquipé de son petit piano acoustique transportable\, il met à l’honneur des noms \ntels que Moon Mullican considéré comme le « King of the Hillbilly Piano Players » ou \nencore Floyd Cramer\, pianiste phare de la « A-team » de Nashville\, groupe mythique de \nstudio des années 50-60 qui enregistra les plus grands succès country de l’époque. \nLe jazz\, rhythm’n’blues et rock’n’roll ne sont pas en reste avec cette formule au \nson authentique. \n🎫 Billetterie : billetweb.fr/julien-bouyssou
URL:https://www.lacigalederoyan.com/event/quintet-julien-bouyssou/
LOCATION:La cigale de Royan\, 79 avenue de la grande conche\, Royan\, 17200\, France
ATTACH;FMTTYPE=image/png:https://www.lacigalederoyan.com/wp-content/uploads/2026/04/MIGNATURE-SITE-WEB-3.png
ORGANIZER;CN="La Cigale de Royan":MAILTO:contact@lacigalederoyan.com
END:VEVENT
BEGIN:VEVENT
DTSTART;TZID=Europe/Paris:20260530T203000
DTEND;TZID=Europe/Paris:20260530T230000
DTSTAMP:20260425T190823
CREATED:20260320T222559Z
LAST-MODIFIED:20260320T222559Z
UID:27059-1780173000-1780182000@www.lacigalederoyan.com
SUMMARY:Tribute Tina Turner
DESCRIPTION:Tina Thunder Tribute\n\n\nRedécouvrez les plus grands Hits de Tina Turner avec sa voix unique et inoubliable\, accompagnée de musiciens talentueux\, qui vous feront revivre les plus grands moments de cette immense star\, qui a marqué plusieurs générations de son groove\, sa puissance et son charme incontestés. Nous sommes un groupe de rock passionné par la musique de Tina Turner et nous voulons partager cette passion avec vous. Notre groupe est composé de musiciens talentueux et passionnés qui se produisent régulièrement sur scène. Nous sommes impatients de vous faire revivre les plus grands moments de Tina Turner en live. Rejoignez-nous pour une soirée inoubliable de musique rock et de performances incroyables. \n🎫 Billetterie : billetweb.fr/tina-thunder-tribute \n🎥 Teaser : https://youtu.be/BWe5S9PPM9M?feature=shared
URL:https://www.lacigalederoyan.com/event/tribute-tina-turner/
LOCATION:La cigale de Royan\, 79 avenue de la grande conche\, Royan\, 17200\, France
ATTACH;FMTTYPE=image/jpeg:https://www.lacigalederoyan.com/wp-content/uploads/2026/03/MIGNATURE-SITE-WEB-14.jpg
END:VEVENT
END:VCALENDAR